BEGIN:VCALENDAR
VERSION:2.0
PRODID:-//Knights of Columbus - ECPv6.15.20//NONSGML v1.0//EN
CALSCALE:GREGORIAN
METHOD:PUBLISH
X-WR-CALNAME:Knights of Columbus
X-ORIGINAL-URL:https://kofc7642.org
X-WR-CALDESC:Events for Knights of Columbus
REFRESH-INTERVAL;VALUE=DURATION:PT1H
X-Robots-Tag:noindex
X-PUBLISHED-TTL:PT1H
BEGIN:VTIMEZONE
TZID:America/Los_Angeles
BEGIN:DAYLIGHT
TZOFFSETFROM:-0800
TZOFFSETTO:-0700
TZNAME:PDT
DTSTART:20250309T100000
END:DAYLIGHT
BEGIN:STANDARD
TZOFFSETFROM:-0700
TZOFFSETTO:-0800
TZNAME:PST
DTSTART:20251102T090000
END:STANDARD
BEGIN:DAYLIGHT
TZOFFSETFROM:-0800
TZOFFSETTO:-0700
TZNAME:PDT
DTSTART:20260308T100000
END:DAYLIGHT
BEGIN:STANDARD
TZOFFSETFROM:-0700
TZOFFSETTO:-0800
TZNAME:PST
DTSTART:20261101T090000
END:STANDARD
BEGIN:DAYLIGHT
TZOFFSETFROM:-0800
TZOFFSETTO:-0700
TZNAME:PDT
DTSTART:20270314T100000
END:DAYLIGHT
BEGIN:STANDARD
TZOFFSETFROM:-0700
TZOFFSETTO:-0800
TZNAME:PST
DTSTART:20271107T090000
END:STANDARD
END:VTIMEZONE
BEGIN:VTIMEZONE
TZID:UTC
BEGIN:STANDARD
TZOFFSETFROM:+0000
TZOFFSETTO:+0000
TZNAME:UTC
DTSTART:20240101T000000
END:STANDARD
END:VTIMEZONE
BEGIN:VTIMEZONE
TZID:America/Denver
BEGIN:DAYLIGHT
TZOFFSETFROM:-0700
TZOFFSETTO:-0600
TZNAME:MDT
DTSTART:20250309T090000
END:DAYLIGHT
BEGIN:STANDARD
TZOFFSETFROM:-0600
TZOFFSETTO:-0700
TZNAME:MST
DTSTART:20251102T080000
END:STANDARD
BEGIN:DAYLIGHT
TZOFFSETFROM:-0700
TZOFFSETTO:-0600
TZNAME:MDT
DTSTART:20260308T090000
END:DAYLIGHT
BEGIN:STANDARD
TZOFFSETFROM:-0600
TZOFFSETTO:-0700
TZNAME:MST
DTSTART:20261101T080000
END:STANDARD
BEGIN:DAYLIGHT
TZOFFSETFROM:-0700
TZOFFSETTO:-0600
TZNAME:MDT
DTSTART:20270314T090000
END:DAYLIGHT
BEGIN:STANDARD
TZOFFSETFROM:-0600
TZOFFSETTO:-0700
TZNAME:MST
DTSTART:20271107T080000
END:STANDARD
END:VTIMEZONE
BEGIN:VEVENT
DTSTART;TZID=America/Los_Angeles:20260513T193000
DTEND;TZID=America/Los_Angeles:20260513T203000
DTSTAMP:20260423T134731
CREATED:20260331T204811Z
LAST-MODIFIED:20260331T205141Z
UID:2533-1778700600-1778704200@kofc7642.org
SUMMARY:Council Meeting & Elections
DESCRIPTION:
URL:https://kofc7642.org/event/council-meeting-elections-2/
LOCATION:St. Martin Room\, 7045 120th Ave NE\, Kirkland\, 98033\, United States
CATEGORIES:Meeting
END:VEVENT
BEGIN:VEVENT
DTSTART;TZID=America/Los_Angeles:20260509T170000
DTEND;TZID=America/Los_Angeles:20260510T180000
DTSTAMP:20260423T134731
CREATED:20260331T204715Z
LAST-MODIFIED:20260331T204715Z
UID:2531-1778346000-1778436000@kofc7642.org
SUMMARY:Mother's Day
DESCRIPTION:Handing out flowers to all mothers after each mass\, Saturday\, and Sunday.
URL:https://kofc7642.org/event/mothers-day/
LOCATION:Holy Family Church\, 7045 120th Ave NE\, Kirkland\, WA\, 98033\, United States
END:VEVENT
BEGIN:VEVENT
DTSTART;TZID=America/Los_Angeles:20260501T100000
DTEND;TZID=America/Los_Angeles:20260501T100000
DTSTAMP:20260423T134731
CREATED:20260331T204554Z
LAST-MODIFIED:20260331T204554Z
UID:2528-1777629600-1777629600@kofc7642.org
SUMMARY:Exposition of the Silver Rose
DESCRIPTION:Exposition of the Silver Rose
URL:https://kofc7642.org/event/exposition-of-the-silver-rose-2/
LOCATION:Holy Family Church\, 7045 120th Ave NE\, Kirkland\, WA\, 98033\, United States
END:VEVENT
BEGIN:VEVENT
DTSTART;TZID=America/Los_Angeles:20260422T193000
DTEND;TZID=America/Los_Angeles:20260422T203000
DTSTAMP:20260423T134731
CREATED:20260331T205738Z
LAST-MODIFIED:20260331T205535Z
UID:2526-1776886200-1776889800@kofc7642.org
SUMMARY:Officers' Planning Meeting
DESCRIPTION:All members are welcome
URL:https://kofc7642.org/event/officers-planning-meeting-4/
LOCATION:St. Martin Room\, 7045 120th Ave NE\, Kirkland\, 98033\, United States
CATEGORIES:Meeting
END:VEVENT
BEGIN:VEVENT
DTSTART;TZID=America/Los_Angeles:20260419T070000
DTEND;TZID=America/Los_Angeles:20260419T140000
DTSTAMP:20260423T134731
CREATED:20260331T204345Z
LAST-MODIFIED:20260331T204345Z
UID:2523-1776582000-1776607200@kofc7642.org
SUMMARY:Pancake Breakfast
DESCRIPTION:Pancake Breakfast
URL:https://kofc7642.org/event/pancake-breakfast/
LOCATION:Parish Center Social Hall\, Holy Family Church\, Kirkland\, WA
CATEGORIES:Food,Work
END:VEVENT
BEGIN:VEVENT
DTSTART;TZID=America/Los_Angeles:20260408T193000
DTEND;TZID=America/Los_Angeles:20260408T203000
DTSTAMP:20260423T134731
CREATED:20260331T204136Z
LAST-MODIFIED:20260331T204136Z
UID:2521-1775676600-1775680200@kofc7642.org
SUMMARY:Council Meeting
DESCRIPTION:Council meeting for month of April 2026.
URL:https://kofc7642.org/event/council-meeting/
LOCATION:St. Martin Room\, 7045 120th Ave NE\, Kirkland\, 98033\, United States
CATEGORIES:Meeting
END:VEVENT
BEGIN:VEVENT
DTSTART;TZID=UTC:20260327T160000
DTEND;TZID=UTC:20260327T190000
DTSTAMP:20260423T134731
CREATED:20251223T030533Z
LAST-MODIFIED:20260317T025229Z
UID:2165-1774627200-1774638000@kofc7642.org
SUMMARY:Lenten Fish Dinner
DESCRIPTION:  \n  \nDine in or take out \n\nDonations ONLY! \n\nAll proceeds go to Fr. Brad’s youth group: Alaska Adventure Retreat 2026 \n\n4pm to 7pm Parish Social Hall \n\nDelicious Cod Fish\, Chips and Coleslaw \n\nStations of the Cross at 7pm in the church \n  \n  \n  \n  \n\nHoly Family Catholic Church \n7045 120th Ave NE\nKirkland\, WA\n206 619 4672 \n\nKofC7642.org \nMarch 27th \n\n  \n \n\n\n\nFriday March 27th\nLenten Dinner\nAs part of our Lenten Journey\, we are to use Prayer\, Fasting and Almsgiving to benefit ourselves and others. The Knights are hosting a “By Donation Only” Lenten Dinner to benefit Fr. Brad’s Alaska Adventure Retreat 2026 this summer. By participating in this dinner “We Pray” that the Retreat will be a success. We “Fast” from our too busy lives and “Give Alms” to a worthy cause – our children! Come and join us for a great dinner and stay for the Stations of the Cross!
URL:https://kofc7642.org/event/lenten-fish-dinner-327/
LOCATION:Parish Center Social Hall\, Holy Family Church\, Kirkland\, WA
CATEGORIES:Food
END:VEVENT
BEGIN:VEVENT
DTSTART;TZID=UTC:20260326T190000
DTEND;TZID=UTC:20260326T213000
DTSTAMP:20260423T134731
CREATED:20251223T030433Z
LAST-MODIFIED:20260218T232927Z
UID:2163-1774551600-1774560600@kofc7642.org
SUMMARY:Lenten Fish Dinner - Prep
DESCRIPTION:Prepare for Lenten Fish Dinner.
URL:https://kofc7642.org/event/lenten-fish-dinner-prep/
LOCATION:Parish Center Kitchen\, 7045 120th Ave NE\, Kirkland\, WA\, 98033\, United States
CATEGORIES:Food,Work
END:VEVENT
BEGIN:VEVENT
DTSTART;TZID=UTC:20260325T193000
DTEND;TZID=UTC:20260325T203000
DTSTAMP:20260423T134731
CREATED:20251223T031040Z
LAST-MODIFIED:20251223T031710Z
UID:2175-1774467000-1774470600@kofc7642.org
SUMMARY:Officers' Planning Meeting
DESCRIPTION:All members are welcome!
URL:https://kofc7642.org/event/officers-planning-meeting-3/
LOCATION:St. Martin Room\, 7045 120th Ave NE\, Kirkland\, 98033\, United States
CATEGORIES:Meeting
END:VEVENT
BEGIN:VEVENT
DTSTART;TZID=America/Denver:20260313T160000
DTEND;TZID=America/Denver:20260313T190000
DTSTAMP:20260423T134731
CREATED:20251223T030937Z
LAST-MODIFIED:20260302T194849Z
UID:2173-1773417600-1773428400@kofc7642.org
SUMMARY:Lenten Fish Dinner
DESCRIPTION:  \n  \nDine in or take out \n\nDonations ONLY! \n\nAll proceeds go to Fr. Brad’s youth group: Alaska Adventure Retreat 2026 \n\n4pm to 7pm Parish Social Hall \n\nDelicious Cod Fish\, Chips and Coleslaw \n\nStations of the Cross at 7pm in the church \n  \n  \n  \n  \n\nHoly Family Catholic Church \n7045 120th Ave NE\nKirkland\, WA\n206 619 4672 \n\nKofC7642.org \nMarch 13th \n\n  \n \n\n\n\nFriday March 13th\nLenten Dinner\nAs part of our Lenten Journey\, we are to use Prayer\, Fasting and Almsgiving to benefit ourselves and others. The Knights are hosting a “By Donation Only” Lenten Dinner to benefit Fr. Brad’s Alaska Adventure Retreat 2026 this summer. By participating in this dinner “We Pray” that the Retreat will be a success. We “Fast” from our too busy lives and “Give Alms” to a worthy cause – our children! Come and join us for a great dinner and stay for the Stations of the Cross!
URL:https://kofc7642.org/event/lenten-fish-dinner-4/
LOCATION:Parish Center Social Hall\, Holy Family Church\, Kirkland\, WA
CATEGORIES:Food,Work
END:VEVENT
BEGIN:VEVENT
DTSTART;TZID=UTC:20260312T190000
DTEND;TZID=UTC:20260312T213000
DTSTAMP:20260423T134731
CREATED:20251223T030837Z
LAST-MODIFIED:20260218T232756Z
UID:2170-1773342000-1773351000@kofc7642.org
SUMMARY:Lenten Fish Dinner - Prep
DESCRIPTION:Prepare for Lenten fish dinner.
URL:https://kofc7642.org/event/lenten-fish-dinner-prep-2/
LOCATION:Parish Center Kitchen\, 7045 120th Ave NE\, Kirkland\, WA\, 98033\, United States
CATEGORIES:Food,Work
END:VEVENT
BEGIN:VEVENT
DTSTART;TZID=UTC:20260311T193000
DTEND;TZID=UTC:20260311T203000
DTSTAMP:20260423T134731
CREATED:20251223T030745Z
LAST-MODIFIED:20251223T031451Z
UID:2168-1773257400-1773261000@kofc7642.org
SUMMARY:Council Meeting
DESCRIPTION:
URL:https://kofc7642.org/event/council-meeting-5/
LOCATION:St. Martin Room\, 7045 120th Ave NE\, Kirkland\, 98033\, United States
CATEGORIES:Meeting
END:VEVENT
BEGIN:VEVENT
DTSTART;TZID=UTC:20260225T193000
DTEND;TZID=UTC:20260225T203000
DTSTAMP:20260423T134731
CREATED:20251223T030333Z
LAST-MODIFIED:20251223T031556Z
UID:2161-1772047800-1772051400@kofc7642.org
SUMMARY:Officers' Planning Meeting
DESCRIPTION:All members are welcome!
URL:https://kofc7642.org/event/officers-planning-meeting-2/
LOCATION:St. Martin Room\, 7045 120th Ave NE\, Kirkland\, 98033\, United States
CATEGORIES:Meeting
END:VEVENT
BEGIN:VEVENT
DTSTART;TZID=UTC:20260211T193000
DTEND;TZID=UTC:20260211T203000
DTSTAMP:20260423T134731
CREATED:20251223T030243Z
LAST-MODIFIED:20251223T031605Z
UID:2158-1770838200-1770841800@kofc7642.org
SUMMARY:Council Meeting
DESCRIPTION:
URL:https://kofc7642.org/event/council-meeting-4/
LOCATION:St. Martin Room\, 7045 120th Ave NE\, Kirkland\, 98033\, United States
CATEGORIES:Meeting
END:VEVENT
BEGIN:VEVENT
DTSTART;TZID=UTC:20260208T063000
DTEND;TZID=UTC:20260208T140000
DTSTAMP:20260423T134731
CREATED:20251223T030142Z
LAST-MODIFIED:20251223T031720Z
UID:2156-1770532200-1770559200@kofc7642.org
SUMMARY:Philly Sales
DESCRIPTION:9am and 11am Mass.
URL:https://kofc7642.org/event/philly-sales-3/
LOCATION:Parish Center Kitchen\, 7045 120th Ave NE\, Kirkland\, WA\, 98033\, United States
CATEGORIES:Food,Work
END:VEVENT
BEGIN:VEVENT
DTSTART;TZID=UTC:20260207T100000
DTEND;TZID=UTC:20260207T190000
DTSTAMP:20260423T134731
CREATED:20251223T030031Z
LAST-MODIFIED:20251223T031750Z
UID:2154-1770458400-1770490800@kofc7642.org
SUMMARY:Philly Sales
DESCRIPTION:Philly sales for School Tourney. \nPhilly sales for Saturday Mass.
URL:https://kofc7642.org/event/philly-sales-2/
LOCATION:School Kitchen\, 7045 120th Ave NE\, Kirkland\, WA\, 98033\, United States
CATEGORIES:Food,Work
END:VEVENT
BEGIN:VEVENT
DTSTART;TZID=UTC:20260206T150000
DTEND;TZID=UTC:20260206T210000
DTSTAMP:20260423T134731
CREATED:20251223T025847Z
LAST-MODIFIED:20251223T031756Z
UID:2151-1770390000-1770411600@kofc7642.org
SUMMARY:Philly Sales
DESCRIPTION:Philly sales for School Tourney.
URL:https://kofc7642.org/event/philly-sales/
LOCATION:School Kitchen\, 7045 120th Ave NE\, Kirkland\, WA\, 98033\, United States
CATEGORIES:Food,Work
END:VEVENT
BEGIN:VEVENT
DTSTART;TZID=UTC:20260205T180000
DTEND;TZID=UTC:20260205T210000
DTSTAMP:20260423T134731
CREATED:20251223T025601Z
LAST-MODIFIED:20251223T031726Z
UID:2147-1770314400-1770325200@kofc7642.org
SUMMARY:Philly Steaks - Prep
DESCRIPTION:Help prepare for Philly Steaks for the school.
URL:https://kofc7642.org/event/philly-steaks-prep/
LOCATION:Parish Center Kitchen\, 7045 120th Ave NE\, Kirkland\, WA\, 98033\, United States
CATEGORIES:Food,Work
END:VEVENT
BEGIN:VEVENT
DTSTART;TZID=America/Los_Angeles:20260131T181500
DTEND;TZID=America/Los_Angeles:20260131T200000
DTSTAMP:20260423T134731
CREATED:20251223T014148Z
LAST-MODIFIED:20251223T032727Z
UID:2124-1769883300-1769889600@kofc7642.org
SUMMARY:All You Can Eat Crab Feed Social - 2025
DESCRIPTION:Knights of Columbus\nAll You Can Eat Crab Feed Social\n\n\n\n\nTickets on sale after all masses starting January 10th and January 11th 2026. \nNote: No tickets will be sold at the door! \nCost: \n\n$65 Crab & Lasagna\n$22 Lasagna Only – Limited Tickets\n$14 Children – Ages 5-12\nFREE for Children 4 and under\n\nDinner also includes coleslaw\, garlic bread\, hotdogs and soda. \nMac & Jack beer along with red or white wine will be served on donation. \nThe Holy Family Boy Scouts will provide dessert on donation. \nPortions of the profits to benefit: Next Step Pregnancy Services\, Holy Family Boy Scouts\, and our Seminarians. \nMake checks payable to KOFC 7642
URL:https://kofc7642.org/event/all-you-can-eat-crab-feed-social-2025/
LOCATION:Parish Center Social Hall\, Holy Family Church\, Kirkland\, WA
CATEGORIES:Food
END:VEVENT
BEGIN:VEVENT
DTSTART;TZID=UTC:20260128T193000
DTEND;TZID=UTC:20260128T203000
DTSTAMP:20260423T134731
CREATED:20251223T024941Z
LAST-MODIFIED:20251223T031616Z
UID:2145-1769628600-1769632200@kofc7642.org
SUMMARY:Officers' Planning Meeting
DESCRIPTION:All members welcome!
URL:https://kofc7642.org/event/officers-planning-meeting/
LOCATION:St. Martin Room\, 7045 120th Ave NE\, Kirkland\, 98033\, United States
CATEGORIES:Meeting
END:VEVENT
BEGIN:VEVENT
DTSTART;TZID=UTC:20260114T193000
DTEND;TZID=UTC:20260114T203000
DTSTAMP:20260423T134731
CREATED:20251223T024807Z
LAST-MODIFIED:20251223T031740Z
UID:2142-1768419000-1768422600@kofc7642.org
SUMMARY:Council Meeting
DESCRIPTION:
URL:https://kofc7642.org/event/council-meeting-3/
LOCATION:St. Martin Room\, 7045 120th Ave NE\, Kirkland\, 98033\, United States
CATEGORIES:Meeting
END:VEVENT
BEGIN:VEVENT
DTSTART;VALUE=DATE:20251225
DTEND;VALUE=DATE:20251226
DTSTAMP:20260423T134731
CREATED:20251223T031131Z
LAST-MODIFIED:20251223T031131Z
UID:2177-1766620800-1766707199@kofc7642.org
SUMMARY:Christmas
DESCRIPTION:
URL:https://kofc7642.org/event/christmas/
END:VEVENT
BEGIN:VEVENT
DTSTART;TZID=UTC:20251206T173000
DTEND;TZID=UTC:20251206T210000
DTSTAMP:20260423T134731
CREATED:20251223T024400Z
LAST-MODIFIED:20251223T031632Z
UID:2140-1765042200-1765054800@kofc7642.org
SUMMARY:Knights' Christmas Party 2025
DESCRIPTION:Fellow Knights and their family come together to celebrate Christmas together.
URL:https://kofc7642.org/event/knights-christmas-party-2025/
LOCATION:Parish Center Social Hall\, Holy Family Church\, Kirkland\, WA
CATEGORIES:Meeting
END:VEVENT
BEGIN:VEVENT
DTSTART;TZID=UTC:20250727T060000
DTEND;TZID=UTC:20250727T140000
DTSTAMP:20260423T134731
CREATED:20241228T031112Z
LAST-MODIFIED:20241228T031112Z
UID:1134-1753596000-1753624800@kofc7642.org
SUMMARY:Pancake Breakfast - Coats for Kids
DESCRIPTION:
URL:https://kofc7642.org/event/pancake-breakfast-coats-for-kids/
LOCATION:Parish Center Social Hall\, Holy Family Church\, Kirkland\, WA
CATEGORIES:Food
END:VEVENT
BEGIN:VEVENT
DTSTART;TZID=UTC:20250709T193000
DTEND;TZID=UTC:20250709T203000
DTSTAMP:20260423T134731
CREATED:20241228T030959Z
LAST-MODIFIED:20241228T030959Z
UID:1132-1752089400-1752093000@kofc7642.org
SUMMARY:NO Council Meeting in July
DESCRIPTION:
URL:https://kofc7642.org/event/no-council-meeting-in-july/
CATEGORIES:Meeting
END:VEVENT
BEGIN:VEVENT
DTSTART;TZID=UTC:20250615T120000
DTEND;TZID=UTC:20250615T140000
DTSTAMP:20260423T134731
CREATED:20241228T030610Z
LAST-MODIFIED:20241228T030610Z
UID:1126-1749988800-1749996000@kofc7642.org
SUMMARY:Parish Picnic
DESCRIPTION:
URL:https://kofc7642.org/event/parish-picnic/
LOCATION:Parish Center Social Hall\, Holy Family Church\, Kirkland\, WA
CATEGORIES:Food,Meeting
END:VEVENT
BEGIN:VEVENT
DTSTART;VALUE=DATE:20250614
DTEND;VALUE=DATE:20250616
DTSTAMP:20260423T134731
CREATED:20241228T030818Z
LAST-MODIFIED:20241228T030818Z
UID:1130-1749859200-1750031999@kofc7642.org
SUMMARY:Handout in Recognition of Father's Day
DESCRIPTION:
URL:https://kofc7642.org/event/handout-in-recognition-of-fathers-day/
LOCATION:Parish Center Social Hall\, Holy Family Church\, Kirkland\, WA
CATEGORIES:Work
END:VEVENT
BEGIN:VEVENT
DTSTART;TZID=UTC:20250611T170000
DTEND;TZID=UTC:20250611T210000
DTSTAMP:20260423T134731
CREATED:20241228T030249Z
LAST-MODIFIED:20241228T030249Z
UID:1124-1749661200-1749675600@kofc7642.org
SUMMARY:Knights Steak Dinner
DESCRIPTION:
URL:https://kofc7642.org/event/knights-steak-dinner/
LOCATION:Parish Center Social Hall\, Holy Family Church\, Kirkland\, WA
CATEGORIES:Food
END:VEVENT
BEGIN:VEVENT
DTSTART;TZID=UTC:20250518T060000
DTEND;TZID=UTC:20250518T140000
DTSTAMP:20260423T134731
CREATED:20241228T030129Z
LAST-MODIFIED:20241228T030129Z
UID:1122-1747548000-1747576800@kofc7642.org
SUMMARY:Pancake Breakfast - 3W Medical for Women
DESCRIPTION:
URL:https://kofc7642.org/event/pancake-breakfast-3w-medical-for-women/
LOCATION:Parish Center Social Hall\, Holy Family Church\, Kirkland\, WA
CATEGORIES:Food
END:VEVENT
BEGIN:VEVENT
DTSTART;TZID=UTC:20250514T193000
DTEND;TZID=UTC:20250514T203000
DTSTAMP:20260423T134731
CREATED:20241228T025806Z
LAST-MODIFIED:20241228T025825Z
UID:1120-1747251000-1747254600@kofc7642.org
SUMMARY:Council Meeting - Elections
DESCRIPTION:St. Martin Room
URL:https://kofc7642.org/event/council-meeting-elections/
LOCATION:Parish Center Social Hall\, Holy Family Church\, Kirkland\, WA
CATEGORIES:Meeting
END:VEVENT
END:VCALENDAR