BEGIN:VCALENDAR
VERSION:2.0
PRODID:-//Knights of Columbus - ECPv6.15.20//NONSGML v1.0//EN
CALSCALE:GREGORIAN
METHOD:PUBLISH
X-ORIGINAL-URL:https://kofc7642.org
X-WR-CALDESC:Events for Knights of Columbus
REFRESH-INTERVAL;VALUE=DURATION:PT1H
X-Robots-Tag:noindex
X-PUBLISHED-TTL:PT1H
BEGIN:VTIMEZONE
TZID:UTC
BEGIN:STANDARD
TZOFFSETFROM:+0000
TZOFFSETTO:+0000
TZNAME:UTC
DTSTART:20250101T000000
END:STANDARD
END:VTIMEZONE
BEGIN:VEVENT
DTSTART;TZID=UTC:20260205T180000
DTEND;TZID=UTC:20260205T210000
DTSTAMP:20260423T121854
CREATED:20251223T025601Z
LAST-MODIFIED:20251223T031726Z
UID:2147-1770314400-1770325200@kofc7642.org
SUMMARY:Philly Steaks - Prep
DESCRIPTION:Help prepare for Philly Steaks for the school.
URL:https://kofc7642.org/event/philly-steaks-prep/
LOCATION:Parish Center Kitchen\, 7045 120th Ave NE\, Kirkland\, WA\, 98033\, United States
CATEGORIES:Food,Work
END:VEVENT
BEGIN:VEVENT
DTSTART;TZID=UTC:20260206T150000
DTEND;TZID=UTC:20260206T210000
DTSTAMP:20260423T121854
CREATED:20251223T025847Z
LAST-MODIFIED:20251223T031756Z
UID:2151-1770390000-1770411600@kofc7642.org
SUMMARY:Philly Sales
DESCRIPTION:Philly sales for School Tourney.
URL:https://kofc7642.org/event/philly-sales/
LOCATION:School Kitchen\, 7045 120th Ave NE\, Kirkland\, WA\, 98033\, United States
CATEGORIES:Food,Work
END:VEVENT
BEGIN:VEVENT
DTSTART;TZID=UTC:20260207T100000
DTEND;TZID=UTC:20260207T190000
DTSTAMP:20260423T121854
CREATED:20251223T030031Z
LAST-MODIFIED:20251223T031750Z
UID:2154-1770458400-1770490800@kofc7642.org
SUMMARY:Philly Sales
DESCRIPTION:Philly sales for School Tourney. \nPhilly sales for Saturday Mass.
URL:https://kofc7642.org/event/philly-sales-2/
LOCATION:School Kitchen\, 7045 120th Ave NE\, Kirkland\, WA\, 98033\, United States
CATEGORIES:Food,Work
END:VEVENT
BEGIN:VEVENT
DTSTART;TZID=UTC:20260208T063000
DTEND;TZID=UTC:20260208T140000
DTSTAMP:20260423T121854
CREATED:20251223T030142Z
LAST-MODIFIED:20251223T031720Z
UID:2156-1770532200-1770559200@kofc7642.org
SUMMARY:Philly Sales
DESCRIPTION:9am and 11am Mass.
URL:https://kofc7642.org/event/philly-sales-3/
LOCATION:Parish Center Kitchen\, 7045 120th Ave NE\, Kirkland\, WA\, 98033\, United States
CATEGORIES:Food,Work
END:VEVENT
END:VCALENDAR