BEGIN:VCALENDAR
VERSION:2.0
PRODID:-//Knights of Columbus - ECPv6.15.20//NONSGML v1.0//EN
CALSCALE:GREGORIAN
METHOD:PUBLISH
X-ORIGINAL-URL:https://kofc7642.org
X-WR-CALDESC:Events for Knights of Columbus
REFRESH-INTERVAL;VALUE=DURATION:PT1H
X-Robots-Tag:noindex
X-PUBLISHED-TTL:PT1H
BEGIN:VTIMEZONE
TZID:UTC
BEGIN:STANDARD
TZOFFSETFROM:+0000
TZOFFSETTO:+0000
TZNAME:UTC
DTSTART:20240101T000000
END:STANDARD
END:VTIMEZONE
BEGIN:VEVENT
DTSTART;TZID=UTC:20250410T190000
DTEND;TZID=UTC:20250410T213000
DTSTAMP:20260424T011941
CREATED:20241228T025034Z
LAST-MODIFIED:20241228T025034Z
UID:1112-1744311600-1744320600@kofc7642.org
SUMMARY:Lenten Fish Dinner Preparation
DESCRIPTION:
URL:https://kofc7642.org/event/lenten-fish-dinner-preparation-2/
LOCATION:Parish Center Social Hall\, Holy Family Church\, Kirkland\, WA
CATEGORIES:Work
END:VEVENT
END:VCALENDAR