BEGIN:VCALENDAR
VERSION:2.0
PRODID:-//Knights of Columbus - ECPv6.15.20//NONSGML v1.0//EN
CALSCALE:GREGORIAN
METHOD:PUBLISH
X-ORIGINAL-URL:https://kofc7642.org
X-WR-CALDESC:Events for Knights of Columbus
REFRESH-INTERVAL;VALUE=DURATION:PT1H
X-Robots-Tag:noindex
X-PUBLISHED-TTL:PT1H
BEGIN:VTIMEZONE
TZID:UTC
BEGIN:STANDARD
TZOFFSETFROM:+0000
TZOFFSETTO:+0000
TZNAME:UTC
DTSTART:20240101T000000
END:STANDARD
END:VTIMEZONE
BEGIN:VEVENT
DTSTART;TZID=UTC:20250501T100000
DTEND;TZID=UTC:20250501T170000
DTSTAMP:20260423T134623
CREATED:20241228T025333Z
LAST-MODIFIED:20241228T025333Z
UID:1116-1746093600-1746118800@kofc7642.org
SUMMARY:Exposition of the Silver Rose
DESCRIPTION:
URL:https://kofc7642.org/event/exposition-of-the-silver-rose/
LOCATION:Parish Center Social Hall\, Holy Family Church\, Kirkland\, WA
CATEGORIES:Meeting
END:VEVENT
BEGIN:VEVENT
DTSTART;TZID=UTC:20250409T193000
DTEND;TZID=UTC:20250409T203000
DTSTAMP:20260423T134623
CREATED:20241228T024920Z
LAST-MODIFIED:20241228T024920Z
UID:1110-1744227000-1744230600@kofc7642.org
SUMMARY:Council Meeting 4-9-25
DESCRIPTION:St. Martin Room
URL:https://kofc7642.org/event/council-meeting-4-9-25/
LOCATION:Parish Center Social Hall\, Holy Family Church\, Kirkland\, WA
CATEGORIES:Meeting
END:VEVENT
END:VCALENDAR