BEGIN:VCALENDAR
VERSION:2.0
PRODID:-//Knights of Columbus - ECPv6.15.20//NONSGML v1.0//EN
CALSCALE:GREGORIAN
METHOD:PUBLISH
X-WR-CALNAME:Knights of Columbus
X-ORIGINAL-URL:https://kofc7642.org
X-WR-CALDESC:Events for Knights of Columbus
REFRESH-INTERVAL;VALUE=DURATION:PT1H
X-Robots-Tag:noindex
X-PUBLISHED-TTL:PT1H
BEGIN:VTIMEZONE
TZID:UTC
BEGIN:STANDARD
TZOFFSETFROM:+0000
TZOFFSETTO:+0000
TZNAME:UTC
DTSTART:20240101T000000
END:STANDARD
END:VTIMEZONE
BEGIN:VEVENT
DTSTART;TZID=UTC:20251206T173000
DTEND;TZID=UTC:20251206T210000
DTSTAMP:20260423T162454
CREATED:20251223T024400Z
LAST-MODIFIED:20251223T031632Z
UID:2140-1765042200-1765054800@kofc7642.org
SUMMARY:Knights' Christmas Party 2025
DESCRIPTION:Fellow Knights and their family come together to celebrate Christmas together.
URL:https://kofc7642.org/event/knights-christmas-party-2025/
LOCATION:Parish Center Social Hall\, Holy Family Church\, Kirkland\, WA
CATEGORIES:Meeting
END:VEVENT
END:VCALENDAR