BEGIN:VCALENDAR
VERSION:2.0
PRODID:-//Knights of Columbus - ECPv6.15.20//NONSGML v1.0//EN
CALSCALE:GREGORIAN
METHOD:PUBLISH
X-WR-CALNAME:Knights of Columbus
X-ORIGINAL-URL:https://kofc7642.org
X-WR-CALDESC:Events for Knights of Columbus
REFRESH-INTERVAL;VALUE=DURATION:PT1H
X-Robots-Tag:noindex
X-PUBLISHED-TTL:PT1H
BEGIN:VTIMEZONE
TZID:UTC
BEGIN:STANDARD
TZOFFSETFROM:+0000
TZOFFSETTO:+0000
TZNAME:UTC
DTSTART:20240101T000000
END:STANDARD
END:VTIMEZONE
BEGIN:VEVENT
DTSTART;TZID=UTC:20250709T193000
DTEND;TZID=UTC:20250709T203000
DTSTAMP:20260423T224514
CREATED:20241228T030959Z
LAST-MODIFIED:20241228T030959Z
UID:1132-1752089400-1752093000@kofc7642.org
SUMMARY:NO Council Meeting in July
DESCRIPTION:
URL:https://kofc7642.org/event/no-council-meeting-in-july/
CATEGORIES:Meeting
END:VEVENT
END:VCALENDAR