BEGIN:VCALENDAR
VERSION:2.0
PRODID:-//Knights of Columbus - ECPv6.15.20//NONSGML v1.0//EN
CALSCALE:GREGORIAN
METHOD:PUBLISH
X-WR-CALNAME:Knights of Columbus
X-ORIGINAL-URL:https://kofc7642.org
X-WR-CALDESC:Events for Knights of Columbus
REFRESH-INTERVAL;VALUE=DURATION:PT1H
X-Robots-Tag:noindex
X-PUBLISHED-TTL:PT1H
BEGIN:VTIMEZONE
TZID:UTC
BEGIN:STANDARD
TZOFFSETFROM:+0000
TZOFFSETTO:+0000
TZNAME:UTC
DTSTART:20240101T000000
END:STANDARD
END:VTIMEZONE
BEGIN:VEVENT
DTSTART;TZID=UTC:20250510T080000
DTEND;TZID=UTC:20250511T170000
DTSTAMP:20260423T225419
CREATED:20241228T025547Z
LAST-MODIFIED:20241228T025547Z
UID:1118-1746864000-1746982800@kofc7642.org
SUMMARY:Handout Carnations in Recognition of Mother's Day
DESCRIPTION:
URL:https://kofc7642.org/event/handout-carnations-in-recognition-of-mothers-day/
LOCATION:Parish Center Social Hall\, Holy Family Church\, Kirkland\, WA
CATEGORIES:Work
END:VEVENT
END:VCALENDAR